BEGIN:VCALENDAR
VERSION:2.0
PRODID:-//hacksw/handcal//NONSGML v1.0//EN
CALSCALE:GREGORIAN
BEGIN:VEVENT
DTSTART:20201014T070000Z
DTEND:20201014T080000Z
UID:e23204
DTSTAMP:20260422T091149Z
LOCATION:
DESCRIPTION:Special zoom Seminar with Dr. Dvir Gur
SUMMARY:Special zoom Seminar with Dr. Dvir Gur
END:VEVENT
END:VCALENDAR