BEGIN:VCALENDAR
VERSION:2.0
PRODID:-//hacksw/handcal//NONSGML v1.0//EN
CALSCALE:GREGORIAN
BEGIN:VEVENT
DTSTART:20201015T063000Z
DTEND:20201015T073000Z
UID:e23210
DTSTAMP:20260422T142558Z
LOCATION:
DESCRIPTION:Zoom lecture: Quantum sensor assisted magnetic resonance 
SUMMARY:Zoom lecture: Quantum sensor assisted magnetic resonance 
END:VEVENT
END:VCALENDAR