BEGIN:VCALENDAR
VERSION:2.0
PRODID:-//hacksw/handcal//NONSGML v1.0//EN
CALSCALE:GREGORIAN
BEGIN:VEVENT
DTSTART:20201014T120000Z
DTEND:20201014T130000Z
UID:e23212
DTSTAMP:20260422T041856Z
LOCATION:
DESCRIPTION:Zoom Ph.D defense: “A First Principles Perspective on Stability\, Dynamics\, and Defect Chemistry in Halide Perovskites”
SUMMARY:Zoom Ph.D defense: “A First Principles Perspective on Stability\, Dynamics\, and Defect Chemistry in Halide Perovskites”
END:VEVENT
END:VCALENDAR