BEGIN:VCALENDAR
VERSION:2.0
PRODID:-//hacksw/handcal//NONSGML v1.0//EN
CALSCALE:GREGORIAN
BEGIN:VEVENT
DTSTART:20201026T130000Z
DTEND:20201026T141500Z
UID:e23232
DTSTAMP:20260422T142434Z
LOCATION:
DESCRIPTION:Online Israel Physics Colloquium: "The magic of moiré quantum matter"
SUMMARY:Online Israel Physics Colloquium: "The magic of moiré quantum matter"
END:VEVENT
END:VCALENDAR