BEGIN:VCALENDAR
VERSION:2.0
PRODID:-//hacksw/handcal//NONSGML v1.0//EN
CALSCALE:GREGORIAN
BEGIN:VEVENT
DTSTART:20201123T130000Z
DTEND:20201123T130000Z
UID:e23248
DTSTAMP:20260421T234616Z
LOCATION:
DESCRIPTION:Putting Proteins Together: Reconstitution of Mechanisms Driving Cilia Motility and Fertilization
SUMMARY:Putting Proteins Together: Reconstitution of Mechanisms Driving Cilia Motility and Fertilization
END:VEVENT
END:VCALENDAR