BEGIN:VCALENDAR
VERSION:2.0
PRODID:-//hacksw/handcal//NONSGML v1.0//EN
CALSCALE:GREGORIAN
BEGIN:VEVENT
DTSTART:20201110T093000Z
DTEND:20201110T093000Z
UID:e23250
DTSTAMP:20260422T041735Z
LOCATION:
DESCRIPTION:Seeing the big picture -  time scales of automatic prediction in temporal and frontal cortex
SUMMARY:Seeing the big picture -  time scales of automatic prediction in temporal and frontal cortex
END:VEVENT
END:VCALENDAR