BEGIN:VCALENDAR
VERSION:2.0
PRODID:-//hacksw/handcal//NONSGML v1.0//EN
CALSCALE:GREGORIAN
BEGIN:VEVENT
DTSTART:20201103T083000Z
DTEND:20201103T083000Z
UID:e23252
DTSTAMP:20260422T142603Z
LOCATION:
DESCRIPTION:CANCELLED!! Guest Seminar via Zoom
SUMMARY:CANCELLED!! Guest Seminar via Zoom
END:VEVENT
END:VCALENDAR