BEGIN:VCALENDAR
VERSION:2.0
PRODID:-//hacksw/handcal//NONSGML v1.0//EN
CALSCALE:GREGORIAN
BEGIN:VEVENT
DTSTART:20201110T113000Z
DTEND:20201110T113000Z
UID:e23254
DTSTAMP:20260422T182808Z
LOCATION:
DESCRIPTION:Why are there colors in the ocean?
SUMMARY:Why are there colors in the ocean?
END:VEVENT
END:VCALENDAR