BEGIN:VCALENDAR
VERSION:2.0
PRODID:-//hacksw/handcal//NONSGML v1.0//EN
CALSCALE:GREGORIAN
BEGIN:VEVENT
DTSTART:20201105T060000Z
DTEND:20201105T070000Z
UID:e23258
DTSTAMP:20260422T204830Z
LOCATION:
DESCRIPTION:Recent Advances in Flow and Imaging Flow Cytometry
SUMMARY:Recent Advances in Flow and Imaging Flow Cytometry
END:VEVENT
END:VCALENDAR