BEGIN:VCALENDAR
VERSION:2.0
PRODID:-//hacksw/handcal//NONSGML v1.0//EN
CALSCALE:GREGORIAN
BEGIN:VEVENT
DTSTART:20201115T100000Z
DTEND:20201115T100000Z
UID:e23270
DTSTAMP:20260422T151258Z
LOCATION:
DESCRIPTION:Molecular Genetics departmental seminar
SUMMARY:Molecular Genetics departmental seminar
END:VEVENT
END:VCALENDAR