BEGIN:VCALENDAR
VERSION:2.0
PRODID:-//hacksw/handcal//NONSGML v1.0//EN
CALSCALE:GREGORIAN
BEGIN:VEVENT
DTSTART:20201117T131500Z
DTEND:20201117T131500Z
UID:e23274
DTSTAMP:20260421T234614Z
LOCATION:
DESCRIPTION:Insights on Processes in Polar Supercooled Cloud Lifecycles from Observations and Cloud Resolving Model Simulations
SUMMARY:Insights on Processes in Polar Supercooled Cloud Lifecycles from Observations and Cloud Resolving Model Simulations
END:VEVENT
END:VCALENDAR