BEGIN:VCALENDAR
VERSION:2.0
PRODID:-//hacksw/handcal//NONSGML v1.0//EN
CALSCALE:GREGORIAN
BEGIN:VEVENT
DTSTART:20201222T070000Z
DTEND:20201222T080000Z
UID:e23278
DTSTAMP:20260421T235421Z
LOCATION:
DESCRIPTION:The ‘Hunger Games’ - Structural Studies of the MC4 Receptor Reveal Mechanism for Satiety
SUMMARY:The ‘Hunger Games’ - Structural Studies of the MC4 Receptor Reveal Mechanism for Satiety
END:VEVENT
END:VCALENDAR