BEGIN:VCALENDAR
VERSION:2.0
PRODID:-//hacksw/handcal//NONSGML v1.0//EN
CALSCALE:GREGORIAN
BEGIN:VEVENT
DTSTART:20201124T080000Z
DTEND:20201124T080000Z
UID:e23300
DTSTAMP:20260421T234614Z
LOCATION:Sussman Family Building for Environmental Sciences
DESCRIPTION:What caused megadroughts in North and South America?
SUMMARY:What caused megadroughts in North and South America?
END:VEVENT
END:VCALENDAR