BEGIN:VCALENDAR
VERSION:2.0
PRODID:-//hacksw/handcal//NONSGML v1.0//EN
CALSCALE:GREGORIAN
BEGIN:VEVENT
DTSTART:20201122T080000Z
DTEND:20201122T090000Z
UID:e23318
DTSTAMP:20260421T234618Z
LOCATION:
DESCRIPTION:Zoom Lecture: Aggregation in intrinsically disordered proteins and associative polymers"
SUMMARY:Zoom Lecture: Aggregation in intrinsically disordered proteins and associative polymers"
END:VEVENT
END:VCALENDAR