BEGIN:VCALENDAR
VERSION:2.0
PRODID:-//hacksw/handcal//NONSGML v1.0//EN
CALSCALE:GREGORIAN
BEGIN:VEVENT
DTSTART:20201122T100000Z
DTEND:20201122T100000Z
UID:e23324
DTSTAMP:20260421T234618Z
LOCATION:
DESCRIPTION:PHD Thesis Defense by Zoom
SUMMARY:PHD Thesis Defense by Zoom
END:VEVENT
END:VCALENDAR