BEGIN:VCALENDAR
VERSION:2.0
PRODID:-//hacksw/handcal//NONSGML v1.0//EN
CALSCALE:GREGORIAN
BEGIN:VEVENT
DTSTART:20201129T100000Z
DTEND:20201129T100000Z
UID:e23336
DTSTAMP:20260421T234615Z
LOCATION:Dolfi and Lola Ebner Auditorium
DESCRIPTION:Molecular Genetics departmental seminar with Sharon Ben-Hur
SUMMARY:Molecular Genetics departmental seminar with Sharon Ben-Hur
END:VEVENT
END:VCALENDAR