BEGIN:VCALENDAR
VERSION:2.0
PRODID:-//hacksw/handcal//NONSGML v1.0//EN
CALSCALE:GREGORIAN
BEGIN:VEVENT
DTSTART:20201122T100000Z
DTEND:20201122T100000Z
UID:e23338
DTSTAMP:20260421T234615Z
LOCATION:Dolfi and Lola Ebner Auditorium
DESCRIPTION:Molecular Genetics departmental seminar with Orel Mizrahi
SUMMARY:Molecular Genetics departmental seminar with Orel Mizrahi
END:VEVENT
END:VCALENDAR