BEGIN:VCALENDAR
VERSION:2.0
PRODID:-//hacksw/handcal//NONSGML v1.0//EN
CALSCALE:GREGORIAN
BEGIN:VEVENT
DTSTART:20201123T110000Z
DTEND:20201123T123000Z
UID:e23340
DTSTAMP:20260421T234620Z
LOCATION:
DESCRIPTION:Zoom: MSc thesis defense: Guided CdTe Nanowires: Synthesis\, Structure\, Optoelectronics and Bandgap Narrowing
SUMMARY:Zoom: MSc thesis defense: Guided CdTe Nanowires: Synthesis\, Structure\, Optoelectronics and Bandgap Narrowing
END:VEVENT
END:VCALENDAR