BEGIN:VCALENDAR
VERSION:2.0
PRODID:-//hacksw/handcal//NONSGML v1.0//EN
CALSCALE:GREGORIAN
BEGIN:VEVENT
DTSTART:20201123T130000Z
DTEND:20201123T141500Z
UID:e23348
DTSTAMP:20260421T234615Z
LOCATION:
DESCRIPTION:IPC - Novel Probes of Dark Matter
SUMMARY:IPC - Novel Probes of Dark Matter
END:VEVENT
END:VCALENDAR