BEGIN:VCALENDAR
VERSION:2.0
PRODID:-//hacksw/handcal//NONSGML v1.0//EN
CALSCALE:GREGORIAN
BEGIN:VEVENT
DTSTART:20201201T110000Z
DTEND:20201201T110000Z
UID:e23364
DTSTAMP:20260422T041752Z
LOCATION:
DESCRIPTION:Understanding the distinctive neuronal epigenome 
SUMMARY:Understanding the distinctive neuronal epigenome 
END:VEVENT
END:VCALENDAR