BEGIN:VCALENDAR
VERSION:2.0
PRODID:-//hacksw/handcal//NONSGML v1.0//EN
CALSCALE:GREGORIAN
BEGIN:VEVENT
DTSTART:20201130T080000Z
DTEND:20201130T090000Z
UID:e23368
DTSTAMP:20260421T234617Z
LOCATION:
DESCRIPTION:How cells determine their volume
SUMMARY:How cells determine their volume
END:VEVENT
END:VCALENDAR