BEGIN:VCALENDAR
VERSION:2.0
PRODID:-//hacksw/handcal//NONSGML v1.0//EN
CALSCALE:GREGORIAN
BEGIN:VEVENT
DTSTART:20201222T093000Z
DTEND:20201222T103000Z
UID:e23372
DTSTAMP:20260422T041754Z
LOCATION:
DESCRIPTION:Behavioural signatures of a developing neural code
SUMMARY:Behavioural signatures of a developing neural code
END:VEVENT
END:VCALENDAR