BEGIN:VCALENDAR
VERSION:2.0
PRODID:-//hacksw/handcal//NONSGML v1.0//EN
CALSCALE:GREGORIAN
BEGIN:VEVENT
DTSTART:20201207T100000Z
DTEND:20201207T100000Z
UID:e23382
DTSTAMP:20260421T085231Z
LOCATION:
DESCRIPTION:PhD defense presentation by Zhana Haimon (Jung Lab)
SUMMARY:PhD defense presentation by Zhana Haimon (Jung Lab)
END:VEVENT
END:VCALENDAR