BEGIN:VCALENDAR
VERSION:2.0
PRODID:-//hacksw/handcal//NONSGML v1.0//EN
CALSCALE:GREGORIAN
BEGIN:VEVENT
DTSTART:20210105T093000Z
DTEND:20210105T103000Z
UID:e23386
DTSTAMP:20260420T093347Z
LOCATION:
DESCRIPTION:Diffusion properties of intracellular metabolites:  compartment specific probes for cell structure and physiology
SUMMARY:Diffusion properties of intracellular metabolites:  compartment specific probes for cell structure and physiology
END:VEVENT
END:VCALENDAR