BEGIN:VCALENDAR
VERSION:2.0
PRODID:-//hacksw/handcal//NONSGML v1.0//EN
CALSCALE:GREGORIAN
BEGIN:VEVENT
DTSTART:20210223T093000Z
DTEND:20210223T103000Z
UID:e23396
DTSTAMP:20260420T194251Z
LOCATION:
DESCRIPTION:Memristors in the Neuromorphic Era
SUMMARY:Memristors in the Neuromorphic Era
END:VEVENT
END:VCALENDAR