BEGIN:VCALENDAR
VERSION:2.0
PRODID:-//hacksw/handcal//NONSGML v1.0//EN
CALSCALE:GREGORIAN
BEGIN:VEVENT
DTSTART:20210309T093000Z
DTEND:20210309T103000Z
UID:e23404
DTSTAMP:20260422T093248Z
LOCATION:
DESCRIPTION:Dissecting the Alzheimer’s brain: from disease single cells  to cellular communities
SUMMARY:Dissecting the Alzheimer’s brain: from disease single cells  to cellular communities
END:VEVENT
END:VCALENDAR