BEGIN:VCALENDAR
VERSION:2.0
PRODID:-//hacksw/handcal//NONSGML v1.0//EN
CALSCALE:GREGORIAN
BEGIN:VEVENT
DTSTART:20210114T110000Z
DTEND:20210114T120000Z
UID:e23438
DTSTAMP:20260420T122412Z
LOCATION:
DESCRIPTION:Molecular mechanisms of senescence on the crossroads of cancer and aging
SUMMARY:Molecular mechanisms of senescence on the crossroads of cancer and aging
END:VEVENT
END:VCALENDAR