BEGIN:VCALENDAR
VERSION:2.0
PRODID:-//hacksw/handcal//NONSGML v1.0//EN
CALSCALE:GREGORIAN
BEGIN:VEVENT
DTSTART:20210131T110000Z
DTEND:20210131T120000Z
UID:e23492
DTSTAMP:20260420T050039Z
LOCATION:
DESCRIPTION:Simulating Chemistry from Atoms to Devices: Next-Generation Reactive Molecular Dynamics
SUMMARY:Simulating Chemistry from Atoms to Devices: Next-Generation Reactive Molecular Dynamics
END:VEVENT
END:VCALENDAR