BEGIN:VCALENDAR
VERSION:2.0
PRODID:-//hacksw/handcal//NONSGML v1.0//EN
CALSCALE:GREGORIAN
BEGIN:VEVENT
DTSTART:20210111T130000Z
DTEND:20210111T143000Z
UID:e23508
DTSTAMP:20260420T122402Z
LOCATION:
DESCRIPTION:Special Guest Seminar
SUMMARY:Special Guest Seminar
END:VEVENT
END:VCALENDAR