BEGIN:VCALENDAR
VERSION:2.0
PRODID:-//hacksw/handcal//NONSGML v1.0//EN
CALSCALE:GREGORIAN
BEGIN:VEVENT
DTSTART:20210125T080000Z
DTEND:20210125T090000Z
UID:e23510
DTSTAMP:20260420T122405Z
LOCATION:
DESCRIPTION:Toward autonomous “artificial cells"
SUMMARY:Toward autonomous “artificial cells"
END:VEVENT
END:VCALENDAR