BEGIN:VCALENDAR
VERSION:2.0
PRODID:-//hacksw/handcal//NONSGML v1.0//EN
CALSCALE:GREGORIAN
BEGIN:VEVENT
DTSTART:20210222T080000Z
DTEND:20210222T090000Z
UID:e23514
DTSTAMP:20260421T085300Z
LOCATION:
DESCRIPTION:Rapid mass spectrometry investigation of overproduced proteins from crude samples
SUMMARY:Rapid mass spectrometry investigation of overproduced proteins from crude samples
END:VEVENT
END:VCALENDAR