BEGIN:VCALENDAR
VERSION:2.0
PRODID:-//hacksw/handcal//NONSGML v1.0//EN
CALSCALE:GREGORIAN
BEGIN:VEVENT
DTSTART:20210322T080000Z
DTEND:20210322T090000Z
UID:e23518
DTSTAMP:20260420T115924Z
LOCATION:
DESCRIPTION:Computational protein design: basic research and applications
SUMMARY:Computational protein design: basic research and applications
END:VEVENT
END:VCALENDAR