BEGIN:VCALENDAR
VERSION:2.0
PRODID:-//hacksw/handcal//NONSGML v1.0//EN
CALSCALE:GREGORIAN
BEGIN:VEVENT
DTSTART:20210124T100000Z
DTEND:20210124T110000Z
UID:e23528
DTSTAMP:20260422T151204Z
LOCATION:
DESCRIPTION:Exploring the potential of Angiosperm resurrection plants for food security in Africa
SUMMARY:Exploring the potential of Angiosperm resurrection plants for food security in Africa
END:VEVENT
END:VCALENDAR