BEGIN:VCALENDAR
VERSION:2.0
PRODID:-//hacksw/handcal//NONSGML v1.0//EN
CALSCALE:GREGORIAN
BEGIN:VEVENT
DTSTART:20210105T083000Z
DTEND:20210105T093000Z
UID:e23544
DTSTAMP:20260420T122358Z
LOCATION:
DESCRIPTION:Guest Seminar via Zoom - Plant and Environmental Sciences Dept.
SUMMARY:Guest Seminar via Zoom - Plant and Environmental Sciences Dept.
END:VEVENT
END:VCALENDAR