BEGIN:VCALENDAR
VERSION:2.0
PRODID:-//hacksw/handcal//NONSGML v1.0//EN
CALSCALE:GREGORIAN
BEGIN:VEVENT
DTSTART:20210114T063000Z
DTEND:20210114T073000Z
UID:e23546
DTSTAMP:20260421T020337Z
LOCATION:
DESCRIPTION:‘Identification of Dynamic Components in the Liquid-Liquid Phase Separation of CPEB4 by EPR Spectroscopy’
SUMMARY:‘Identification of Dynamic Components in the Liquid-Liquid Phase Separation of CPEB4 by EPR Spectroscopy’
END:VEVENT
END:VCALENDAR