BEGIN:VCALENDAR
VERSION:2.0
PRODID:-//hacksw/handcal//NONSGML v1.0//EN
CALSCALE:GREGORIAN
BEGIN:VEVENT
DTSTART:20210119T150000Z
DTEND:20210119T160000Z
UID:e23548
DTSTAMP:20260422T182756Z
LOCATION:
DESCRIPTION:New perspectives on interlayer excitons in two-dimensional heterostructures
SUMMARY:New perspectives on interlayer excitons in two-dimensional heterostructures
END:VEVENT
END:VCALENDAR