BEGIN:VCALENDAR
VERSION:2.0
PRODID:-//hacksw/handcal//NONSGML v1.0//EN
CALSCALE:GREGORIAN
BEGIN:VEVENT
DTSTART:20210302T070000Z
DTEND:20210302T080000Z
UID:e23554
DTSTAMP:20260420T050222Z
LOCATION:Nella and Leon Benoziyo Building for Biological Sciences
DESCRIPTION:Quality Control of Misfolded Membrane Proteins 
SUMMARY:Quality Control of Misfolded Membrane Proteins 
END:VEVENT
END:VCALENDAR