BEGIN:VCALENDAR
VERSION:2.0
PRODID:-//hacksw/handcal//NONSGML v1.0//EN
CALSCALE:GREGORIAN
BEGIN:VEVENT
DTSTART:20210126T080000Z
DTEND:20210126T080000Z
UID:e23556
DTSTAMP:20260420T122304Z
LOCATION:
DESCRIPTION:Marine electrical imaging reveals novel freshwater transport mechanism in Hawaiʻi
SUMMARY:Marine electrical imaging reveals novel freshwater transport mechanism in Hawaiʻi
END:VEVENT
END:VCALENDAR