BEGIN:VCALENDAR
VERSION:2.0
PRODID:-//hacksw/handcal//NONSGML v1.0//EN
CALSCALE:GREGORIAN
BEGIN:VEVENT
DTSTART:20210127T080000Z
DTEND:20210127T080000Z
UID:e23564
DTSTAMP:20260423T120805Z
LOCATION:
DESCRIPTION:"The use of animals in drug development: challenges and opportunities"
SUMMARY:"The use of animals in drug development: challenges and opportunities"
END:VEVENT
END:VCALENDAR