BEGIN:VCALENDAR
VERSION:2.0
PRODID:-//hacksw/handcal//NONSGML v1.0//EN
CALSCALE:GREGORIAN
BEGIN:VEVENT
DTSTART:20210119T083000Z
DTEND:20210119T093000Z
UID:e23580
DTSTAMP:20260420T122400Z
LOCATION:
DESCRIPTION:Getting to the root of plant drought response: the role of lipoxygenases and singlet oxygen
SUMMARY:Getting to the root of plant drought response: the role of lipoxygenases and singlet oxygen
END:VEVENT
END:VCALENDAR