BEGIN:VCALENDAR
VERSION:2.0
PRODID:-//hacksw/handcal//NONSGML v1.0//EN
CALSCALE:GREGORIAN
BEGIN:VEVENT
DTSTART:20210131T080000Z
DTEND:20210131T090000Z
UID:e23586
DTSTAMP:20260420T062933Z
LOCATION:
DESCRIPTION:Live imaging of chromatin distribution reveals novel principles of nuclear architecture and chromatin compartmentalization”.
SUMMARY:Live imaging of chromatin distribution reveals novel principles of nuclear architecture and chromatin compartmentalization”.
END:VEVENT
END:VCALENDAR