BEGIN:VCALENDAR
VERSION:2.0
PRODID:-//hacksw/handcal//NONSGML v1.0//EN
CALSCALE:GREGORIAN
BEGIN:VEVENT
DTSTART:20210211T110000Z
DTEND:20210211T120000Z
UID:e23602
DTSTAMP:20260419T112311Z
LOCATION:
DESCRIPTION:MICRO-ECO Microbial Biology Student Club
SUMMARY:MICRO-ECO Microbial Biology Student Club
END:VEVENT
END:VCALENDAR