BEGIN:VCALENDAR
VERSION:2.0
PRODID:-//hacksw/handcal//NONSGML v1.0//EN
CALSCALE:GREGORIAN
BEGIN:VEVENT
DTSTART:20210302T130000Z
DTEND:20210302T140000Z
UID:e23622
DTSTAMP:20260420T045939Z
LOCATION:
DESCRIPTION:TBA
SUMMARY:TBA
END:VEVENT
END:VCALENDAR