BEGIN:VCALENDAR
VERSION:2.0
PRODID:-//hacksw/handcal//NONSGML v1.0//EN
CALSCALE:GREGORIAN
BEGIN:VEVENT
DTSTART:20210525T093000Z
DTEND:20210525T093000Z
UID:e23638
DTSTAMP:20260420T054900Z
LOCATION:
DESCRIPTION:Technologies for all-optical interrogation of neural circuits  in behaving animalsTechnologies for all-optical interrogation of neural circuits  in behaving animals
SUMMARY:Technologies for all-optical interrogation of neural circuits  in behaving animalsTechnologies for all-optical interrogation of neural circuits  in behaving animals
END:VEVENT
END:VCALENDAR