BEGIN:VCALENDAR
VERSION:2.0
PRODID:-//hacksw/handcal//NONSGML v1.0//EN
CALSCALE:GREGORIAN
BEGIN:VEVENT
DTSTART:20210615T093000Z
DTEND:20210615T093000Z
UID:e23644
DTSTAMP:20260422T204830Z
LOCATION:
DESCRIPTION:Representation of 3D space in the mammalian brain: From 3D grid cells in flying bats to 3D perception in flying humans
SUMMARY:Representation of 3D space in the mammalian brain: From 3D grid cells in flying bats to 3D perception in flying humans
END:VEVENT
END:VCALENDAR