BEGIN:VCALENDAR
VERSION:2.0
PRODID:-//hacksw/handcal//NONSGML v1.0//EN
CALSCALE:GREGORIAN
BEGIN:VEVENT
DTSTART:20210622T093000Z
DTEND:20210622T093000Z
UID:e23646
DTSTAMP:20260422T204816Z
LOCATION:
DESCRIPTION:Yes I Can ! Neural indicators of self-views and their motivational value
SUMMARY:Yes I Can ! Neural indicators of self-views and their motivational value
END:VEVENT
END:VCALENDAR