BEGIN:VCALENDAR
VERSION:2.0
PRODID:-//hacksw/handcal//NONSGML v1.0//EN
CALSCALE:GREGORIAN
BEGIN:VEVENT
DTSTART:20210218T063000Z
DTEND:20210218T073000Z
UID:e23658
DTSTAMP:20260419T231702Z
LOCATION:
DESCRIPTION:Room Temperature 13C-DNP in Diamond Powder
SUMMARY:Room Temperature 13C-DNP in Diamond Powder
END:VEVENT
END:VCALENDAR