BEGIN:VCALENDAR
VERSION:2.0
PRODID:-//hacksw/handcal//NONSGML v1.0//EN
CALSCALE:GREGORIAN
BEGIN:VEVENT
DTSTART:20210214T100000Z
DTEND:20210214T100000Z
UID:e23666
DTSTAMP:20260421T102838Z
LOCATION:
DESCRIPTION:Molecular Genetics Departmental Seminar
SUMMARY:Molecular Genetics Departmental Seminar
END:VEVENT
END:VCALENDAR