BEGIN:VCALENDAR
VERSION:2.0
PRODID:-//hacksw/handcal//NONSGML v1.0//EN
CALSCALE:GREGORIAN
BEGIN:VEVENT
DTSTART:20210216T083000Z
DTEND:20210216T093000Z
UID:e23668
DTSTAMP:20260421T085238Z
LOCATION:
DESCRIPTION:Avoiding H+ overload - the unusual mechanisms of pH homeostasis in calcifying coccolithophores
SUMMARY:Avoiding H+ overload - the unusual mechanisms of pH homeostasis in calcifying coccolithophores
END:VEVENT
END:VCALENDAR