BEGIN:VCALENDAR
VERSION:2.0
PRODID:-//hacksw/handcal//NONSGML v1.0//EN
CALSCALE:GREGORIAN
BEGIN:VEVENT
DTSTART:20210304T063000Z
DTEND:20210304T073000Z
UID:e23678
DTSTAMP:20260420T045925Z
LOCATION:
DESCRIPTION:“Beyond mapping: perturbation as the key to understanding function”
SUMMARY:“Beyond mapping: perturbation as the key to understanding function”
END:VEVENT
END:VCALENDAR